BEGIN:VCALENDAR
VERSION:2.0
PRODID:-//The Business Journal - ECPv6.15.17.1//NONSGML v1.0//EN
CALSCALE:GREGORIAN
METHOD:PUBLISH
X-WR-CALNAME:The Business Journal
X-ORIGINAL-URL:https://thebusinessjournal.com
X-WR-CALDESC:Events for The Business Journal
REFRESH-INTERVAL;VALUE=DURATION:PT1H
X-Robots-Tag:noindex
X-PUBLISHED-TTL:PT1H
BEGIN:VTIMEZONE
TZID:America/Los_Angeles
BEGIN:DAYLIGHT
TZOFFSETFROM:-0800
TZOFFSETTO:-0700
TZNAME:PDT
DTSTART:20250309T100000
END:DAYLIGHT
BEGIN:STANDARD
TZOFFSETFROM:-0700
TZOFFSETTO:-0800
TZNAME:PST
DTSTART:20251102T090000
END:STANDARD
BEGIN:DAYLIGHT
TZOFFSETFROM:-0800
TZOFFSETTO:-0700
TZNAME:PDT
DTSTART:20260308T100000
END:DAYLIGHT
BEGIN:STANDARD
TZOFFSETFROM:-0700
TZOFFSETTO:-0800
TZNAME:PST
DTSTART:20261101T090000
END:STANDARD
BEGIN:DAYLIGHT
TZOFFSETFROM:-0800
TZOFFSETTO:-0700
TZNAME:PDT
DTSTART:20270314T100000
END:DAYLIGHT
BEGIN:STANDARD
TZOFFSETFROM:-0700
TZOFFSETTO:-0800
TZNAME:PST
DTSTART:20271107T090000
END:STANDARD
END:VTIMEZONE
BEGIN:VEVENT
DTSTART;TZID=America/Los_Angeles:20260425T080000
DTEND;TZID=America/Los_Angeles:20260425T120000
DTSTAMP:20260422T075117
CREATED:20260305T172311Z
LAST-MODIFIED:20260305T172311Z
UID:10008968-1777104000-1777118400@thebusinessjournal.com
SUMMARY:HNC Presents Pickle Ball at Plaza Park
DESCRIPTION:What: Hands in the Community Presents Pickleball Event \nWhen: Saturday\, April 25th \nWhere: Plaza Park (Visalia\, Calif.) \nCost: $50 per player – includes registration\, lunch\, drinks and raffle tickets (Teams of 2 players minimum) \n  \n  \nWe are thrilled to announce our newest event and one of Visalia’s most anticipated sporting and community events — the 1st Hands in the Community (HNC) Classic Pickleball event. This high-energy play\, connection and community supports HNC’s ability to offer our services for no charge. \nThis event brings together players for one day of exciting pickleball\, camaraderie and giving back to our community. Whether you’re a seasoned competitor or a recreational player who loves the game\, the Classic offers a fun\, welcoming and inspiring atmosphere for all skill levels! \nIf you are unable to play or attend\, please consider raffle items ranging from $30-$100.
URL:https://thebusinessjournal.com/event/hnc-presents-pickle-ball-at-plaza-park/
LOCATION:Plaza Park\, 1800 Plaza Dr\, Visalia\, CA\, 93277\, United States
ATTACH;FMTTYPE=image/webp:https://thebusinessjournal.com/wp-content/uploads/2026/03/HNC-Pickleball-Event-@-Visalias-Plaza-Park.webp
ORGANIZER;CN="Hands In the Community":MAILTO:hncvisalia@gmail.com
END:VEVENT
BEGIN:VEVENT
DTSTART;TZID=America/Los_Angeles:20260430T173000
DTEND;TZID=America/Los_Angeles:20260430T200000
DTSTAMP:20260422T075117
CREATED:20260127T172912Z
LAST-MODIFIED:20260127T172912Z
UID:10008551-1777570200-1777579200@thebusinessjournal.com
SUMMARY:Arts Alive in Agriculture: A Juried Exhibition
DESCRIPTION:The Fresno Arts Council invites the community to the 13th Annual “Arts Alive in Agriculture\,” a juried art exhibition. Join us on Thursday\, April 30\, 2026 at “The Barn” at the San Joaquin Parkway Trust River Center from 5:30 PM – 8:00 PM to celebrate the Central Valley’s agriculture and art! \nThe exhibit is an annual competition that honors the agricultural roots\, resources\, and traditions of the ethnically diverse communities that produce food in the Central Valley. The event will include an opening night reception with food\, drinks\, live music\, art\, and fun! \nTickets are free! A suggested donation of $20 is appreciated. Visit the event link to get your tickets today!
URL:https://thebusinessjournal.com/event/arts-alive-in-agriculture-a-juried-exhibition/
LOCATION:San Joaquin River Parkway and Conservation Trust\, 11605 Old Friant Road\, Fresno\, C\, 93730\, United States
ATTACH;FMTTYPE=image/png:https://thebusinessjournal.com/wp-content/uploads/2026/01/AAiA-2026-Save-the-Date-8.5-x-5.5-in-2.png
ORGANIZER;CN="Fresno Arts Council":MAILTO:marketing@fresnoartscouncil.org
END:VEVENT
END:VCALENDAR