BEGIN:VCALENDAR
VERSION:2.0
PRODID:-//The Business Journal - ECPv6.15.17.1//NONSGML v1.0//EN
CALSCALE:GREGORIAN
METHOD:PUBLISH
X-ORIGINAL-URL:https://thebusinessjournal.com
X-WR-CALDESC:Events for The Business Journal
REFRESH-INTERVAL;VALUE=DURATION:PT1H
X-Robots-Tag:noindex
X-PUBLISHED-TTL:PT1H
BEGIN:VTIMEZONE
TZID:America/Los_Angeles
BEGIN:DAYLIGHT
TZOFFSETFROM:-0800
TZOFFSETTO:-0700
TZNAME:PDT
DTSTART:20250309T100000
END:DAYLIGHT
BEGIN:STANDARD
TZOFFSETFROM:-0700
TZOFFSETTO:-0800
TZNAME:PST
DTSTART:20251102T090000
END:STANDARD
BEGIN:DAYLIGHT
TZOFFSETFROM:-0800
TZOFFSETTO:-0700
TZNAME:PDT
DTSTART:20260308T100000
END:DAYLIGHT
BEGIN:STANDARD
TZOFFSETFROM:-0700
TZOFFSETTO:-0800
TZNAME:PST
DTSTART:20261101T090000
END:STANDARD
BEGIN:DAYLIGHT
TZOFFSETFROM:-0800
TZOFFSETTO:-0700
TZNAME:PDT
DTSTART:20270314T100000
END:DAYLIGHT
BEGIN:STANDARD
TZOFFSETFROM:-0700
TZOFFSETTO:-0800
TZNAME:PST
DTSTART:20271107T090000
END:STANDARD
END:VTIMEZONE
BEGIN:VEVENT
DTSTART;TZID=America/Los_Angeles:20260308T130000
DTEND;TZID=America/Los_Angeles:20260308T170000
DTSTAMP:20260421T233811
CREATED:20260122T182034Z
LAST-MODIFIED:20260122T182547Z
UID:10008924-1772974800-1772989200@thebusinessjournal.com
SUMMARY:The Experience Wedding Expo
DESCRIPTION:Get ready for The Experience Wedding Expo\, Visalia’s ultimate wedding planning event! Create the wedding of your dreams with us. \n  \nThe Central Valley’s Favorite Wedding Expo and Bridal Show \nWhen:  Sunday\, March 8 from 1 PM – 5 PM \nWhere:  The Visalia Convention Center \nCost:  \n\n$15 | Admission to The Experience Wedding Expo | (Presale end on Mar 7\, 2026) \n$45 | VIP Admission to The Experience Expo for Four – Four tickets to The Wedding Expo\, plus a Swag Bag of goodies for the Bride. | (Sales end on Mar 8\, 2026) \n$20 | Tickets at The Door\n\nRefund Policy:  No refunds \n  \nOverview:\nNo matter where you’re planning to tie the knot in Central California\, The Experience Wedding Expo is your ultimate destination for turning your wedding dreams into reality. This dynamic event gathers everything you need to plan the perfect celebration\, all under one roof. \nFrom stunning wedding inspiration to ideas for breathtaking venues and unforgettable honeymoons\, you’ll find countless ways to personalize your big day. Whether you’re just beginning the planning process or putting the finishing touches on your vision\, we’re here to support you every step of the way. Let The Experience Wedding Expo guide you toward creating the wedding you’ve always imagined. \n  \nAgenda\n12:30 PM – 01:00 PM \nWelcome VIB’s – Early Admission Reception \nLOM Productions / LevelUp Dj’s \n\nCalling All VIP Brides! ?✨ Your unforgettable day starts early at The Experience Wedding Expo! Arrive at 12:30 PM—30 minutes before doors open to the public—and get spoiled from the start. \nYour VIP check-in includes: ?‍♀️ A stunning Bride-To-Be sash ?️ Chic white-rimmed bride sunglasses ? An exclusive VIP swag bag (with a surprise you’ll love—hello\, veil moment!) Then raise a glass with us! ? \nEnjoy a celebratory toast and delicious appetizers as we kick off the fun. You and your crew will feel the excitement before you even walk the expo floor. We’re ready for you\, Bride! Let’s make this a day to remember at The Experience Wedding Expo! ? \n  \n01:00 PM \nDoors Open – Welcome to the Experience
URL:https://thebusinessjournal.com/event/the-experience-wedding-expo/
LOCATION:Visalia Convention Center\, 303 E. Acequia Avenue\, Visalia\, CA\, 39291\, United States
ATTACH;FMTTYPE=image/webp:https://thebusinessjournal.com/wp-content/uploads/2026/01/The-Experience-Wedding-Expo-By-LOM-Productions-Weddings-Events-LLC.webp
ORGANIZER;CN="LOM Productions Weddings & Events":MAILTO:hello@lomproductions.com
GEO:36.328904;-119.2906706
X-APPLE-STRUCTURED-LOCATION;VALUE=URI;X-ADDRESS=Visalia Convention Center 303 E. Acequia Avenue Visalia CA 39291 United States;X-APPLE-RADIUS=500;X-TITLE=303 E. Acequia Avenue:geo:-119.2906706,36.328904
END:VEVENT
BEGIN:VEVENT
DTSTART;TZID=America/Los_Angeles:20260205T180000
DTEND;TZID=America/Los_Angeles:20260205T203000
DTSTAMP:20260421T233811
CREATED:20260128T172626Z
LAST-MODIFIED:20260128T182305Z
UID:10008952-1770314400-1770323400@thebusinessjournal.com
SUMMARY:A Business Strategy: The Mixer
DESCRIPTION:A Business Strategy”: The Mixer \nJoin us for the Business Mixer\, a chill in-person event to network\, share ideas\, and make new connections! \n  \nWhen: Thursday February\, 5th 2026  \nTime: \n5:30 PM | Wedding Pros & Invited Guests  \n6 PM to 8:30 PM | General Public \nWhere: The Cellar Door in Downtown Visalia \nCost: Free \n*Ages 21+ \n  \nJoin Our Business Mixer!\nLooking to network and connect with local pros? Our in-person Business Mixer is the perfect spot to meet new contacts\, share ideas\, and spark collaborations. Come ready to chat\, have fun\, and grow your network in a relaxed setting. Don’t miss out on this chance to boost your business circle! \n  \nAgenda: \n6:00 PM – 7:30 PM | Receive a glass of complimentary celebratory bubbles at entry and appetizers will be served. \n  \n*Weddings Pros you are on the list! MESSAGE us for pre-registration details that you don’t want to miss. But you must pre-register.
URL:https://thebusinessjournal.com/event/a-business-strategy-the-mixer/
LOCATION:The Cellar Door\, 101 W. Main St.\, Visalia\, CA\, 93291\, United States
ATTACH;FMTTYPE=image/png:https://thebusinessjournal.com/wp-content/uploads/2026/01/A-Business-Strategy-.png
ORGANIZER;CN="LOM Productions Weddings & Events":MAILTO:hello@lomproductions.com
END:VEVENT
END:VCALENDAR