BEGIN:VCALENDAR
VERSION:2.0
PRODID:-//The Business Journal - ECPv6.15.17.1//NONSGML v1.0//EN
CALSCALE:GREGORIAN
METHOD:PUBLISH
X-ORIGINAL-URL:https://thebusinessjournal.com
X-WR-CALDESC:Events for The Business Journal
REFRESH-INTERVAL;VALUE=DURATION:PT1H
X-Robots-Tag:noindex
X-PUBLISHED-TTL:PT1H
BEGIN:VTIMEZONE
TZID:America/Los_Angeles
BEGIN:DAYLIGHT
TZOFFSETFROM:-0800
TZOFFSETTO:-0700
TZNAME:PDT
DTSTART:20250309T100000
END:DAYLIGHT
BEGIN:STANDARD
TZOFFSETFROM:-0700
TZOFFSETTO:-0800
TZNAME:PST
DTSTART:20251102T090000
END:STANDARD
BEGIN:DAYLIGHT
TZOFFSETFROM:-0800
TZOFFSETTO:-0700
TZNAME:PDT
DTSTART:20260308T100000
END:DAYLIGHT
BEGIN:STANDARD
TZOFFSETFROM:-0700
TZOFFSETTO:-0800
TZNAME:PST
DTSTART:20261101T090000
END:STANDARD
BEGIN:DAYLIGHT
TZOFFSETFROM:-0800
TZOFFSETTO:-0700
TZNAME:PDT
DTSTART:20270314T100000
END:DAYLIGHT
BEGIN:STANDARD
TZOFFSETFROM:-0700
TZOFFSETTO:-0800
TZNAME:PST
DTSTART:20271107T090000
END:STANDARD
END:VTIMEZONE
BEGIN:VEVENT
DTSTART;TZID=America/Los_Angeles:20260224T173000
DTEND;TZID=America/Los_Angeles:20260224T200000
DTSTAMP:20260425T055409
CREATED:20250808T221735Z
LAST-MODIFIED:20260204T194316Z
UID:10008513-1771954200-1771963200@thebusinessjournal.com
SUMMARY:CEO of the Year Featuring The Book of Lists
DESCRIPTION:2026 CEO of the Year Featuring The Book of Lists \nIt’s the Business Journals CEO of the Year Awards Featuring the Book of Lists\, happening Tuesday\, February 24th at 5:30 PM at Pardini’s in Fresno. \nEnjoy live music\, remarks from The Mayor of Fresno\, Jerry Dyer\, connect with some of the Valley’s top business leaders\, and celebrate the achievements of the 2026 CEO of the Year Honorees: \n \nMatt Dildine – Fresno Mission \nWayne Boos – Boos & Associates\, A Professional Corp. \nDennis Woods – United Security Bank \nScott Shehadey – Shehadey Family Foods  \nStephanie Smith – Inspiration Travel \nJane Olvera Majors – Brade Media & HYPHEN \n  \nYour ticket includes drinks\, dinner\, and an exclusive early release of The Business Journal’s Book of Lists—the Valley’s essential business to business guide featuring fresh data and contact information for top companies. \n  \nPurchase Ticket \n  \n \n  \nFor more information\, contact Ashley Webster Rudolph at (559) 490-3481 or email:  ashley@thebusinessjournal.com \nThe CEO of the Year Awards—February 24th. Be there! \n  \n\n2025 CEO of the Year Event Photos
URL:https://thebusinessjournal.com/event/book-of-lists-party-2025/
LOCATION:Pardini’s Catering & Banquets\, 2257 W. Shaw Ave.\, Fresno\, CA\, 93711\, United States
ORGANIZER;CN="Abner Garcia":MAILTO:abner@thebusinessjournal.com
GEO:36.8076221;-119.8323808
X-APPLE-STRUCTURED-LOCATION;VALUE=URI;X-ADDRESS=Pardini’s Catering & Banquets 2257 W. Shaw Ave. Fresno CA 93711 United States;X-APPLE-RADIUS=500;X-TITLE=2257 W. Shaw Ave.:geo:-119.8323808,36.8076221
END:VEVENT
BEGIN:VEVENT
DTSTART;TZID=America/Los_Angeles:20260227T180000
DTEND;TZID=America/Los_Angeles:20260227T200000
DTSTAMP:20260425T055409
CREATED:20260224T171947Z
LAST-MODIFIED:20260224T171947Z
UID:10008955-1772215200-1772222400@thebusinessjournal.com
SUMMARY:Filmmaker Meetup
DESCRIPTION:Join us for a screening that celebrates the creativity of our local filmmakers. From first-time creators to experienced storytellers\, this showcase highlights films made in many unique styles and voices. \n  \nSubmit your film and share your work with a community that values creative expression: https://forms.gle/rQ7AmuhYKvfYA5b96 \nFree and open to the public!
URL:https://thebusinessjournal.com/event/cmac-filmmaker-meetup/
LOCATION:CMAC\, 1555 Van Ness Avenue\, Fresno\, CA\, 93721\, United States
ATTACH;FMTTYPE=image/png:https://thebusinessjournal.com/wp-content/uploads/2026/02/16x9-2026-FM.png
ORGANIZER;CN="CMAC":MAILTO:info@cmac.tv
END:VEVENT
BEGIN:VEVENT
DTSTART;TZID=America/Los_Angeles:20260228T080000
DTEND;TZID=America/Los_Angeles:20260228T090000
DTSTAMP:20260425T055409
CREATED:20260227T192159Z
LAST-MODIFIED:20260227T192440Z
UID:10008964-1772265600-1772269200@thebusinessjournal.com
SUMMARY:Ribbon cutting celebration for the Bob Hill Youth Athletic Complex
DESCRIPTION:Help us celebrate the completion of this major city project! \nThe City of Hanford will host a ribbon cutting ceremony for the completion and grand opening of the new Concession Stand/Restroom Building at the Youth Athletic Complex — also known as the Bob Hill Complex. \nEveryone is welcome to attend. \n  \nWHAT: \nRibbon cutting celebration for the completion and grand opening of the new concession stand/restroom building at the Youth Athletic Complex\, also known as Bob Hill Complex. \nWHO: \nRepresentatives from City of Hanford \nHanford Youth Baseball (HYB) \nCommunity Member Chris Hill (son of Bob Hill) \n\nWHEN: \nSaturday\, February 28 from 8 a.m. – 9 a.m. \n\nWHERE: \n1098 Campus Dr\, Hanford\, CA 93230
URL:https://thebusinessjournal.com/event/ribbon-cutting-celebration-for-the-bob-hill-youth-athletic-complex/
LOCATION:Youth Athletic Complex\, 1098 Campus Dr\, Hanford\, CA\, 93230\, United States
ATTACH;FMTTYPE=image/png:https://thebusinessjournal.com/wp-content/uploads/2026/02/Hanford-Ribbon-Cutting-Ceremony-Youth-Athletic-Complex-Building.png
END:VEVENT
BEGIN:VEVENT
DTSTART;TZID=America/Los_Angeles:20260228T173000
DTEND;TZID=America/Los_Angeles:20260228T200000
DTSTAMP:20260425T055409
CREATED:20260224T174603Z
LAST-MODIFIED:20260224T174603Z
UID:10008962-1772299800-1772308800@thebusinessjournal.com
SUMMARY:2026 Business and Community Awards Gala
DESCRIPTION:The Greater Reedley Chamber of Commerce is excited to announce that Tony Cabrera of ABC7 Los Angeles will serve as Master of Ceremonies for our 2026 Business and Community Awards Gala on February 28. \n\nTony is a broadcast journalist and morning anchor for ABC7 Eyewitness News in Los Angeles.  \nOver the course of his career\, he has worked as a reporter\, weathercaster\, and correspondent in markets across the country.  \nMany in our region will remember his time at ABC30 in Fresno\, where he became a strong supporter of Reedley and the Central Valley.  \nNow working in Southern California\, Tony returns to Reedley for this special evening as we celebrate the individuals and businesses that make our community shine. \n\nJoin us for a memorable night of recognition\, celebration\, and community connection. \n\nEvent Details:\nWhat: 2026 Business and Community Awards Gala\nWhen: Saturday\, February 28\, 2026\nWhere: Reedley Community Center \n  \nAgenda:\nSocial Mixer at 5:30 p.m\nDinner and Awards Program at 6:00 p.m.\n \nTickets are selling quickly.  They may be purchased at the Chamber office located at 1044 G Street in Downtown Reedley or by calling.
URL:https://thebusinessjournal.com/event/2026-business-and-community-awards-gala/
LOCATION:Reedley Community Center\, 100 N. East Ave\, Reedley\, CA\, 93654\, United States
ATTACH;FMTTYPE=image/jpeg:https://thebusinessjournal.com/wp-content/uploads/2026/02/637071948_10237581409569294_7856634660732721973_n.jpg
ORGANIZER;CN="Greater Reedley Chamber of Commerce":MAILTO:info@reedleychamber.com
END:VEVENT
END:VCALENDAR