BEGIN:VCALENDAR
VERSION:2.0
PRODID:-//The Business Journal - ECPv6.15.17.1//NONSGML v1.0//EN
CALSCALE:GREGORIAN
METHOD:PUBLISH
X-WR-CALNAME:The Business Journal
X-ORIGINAL-URL:https://thebusinessjournal.com
X-WR-CALDESC:Events for The Business Journal
REFRESH-INTERVAL;VALUE=DURATION:PT1H
X-Robots-Tag:noindex
X-PUBLISHED-TTL:PT1H
BEGIN:VTIMEZONE
TZID:America/Los_Angeles
BEGIN:DAYLIGHT
TZOFFSETFROM:-0800
TZOFFSETTO:-0700
TZNAME:PDT
DTSTART:20250309T100000
END:DAYLIGHT
BEGIN:STANDARD
TZOFFSETFROM:-0700
TZOFFSETTO:-0800
TZNAME:PST
DTSTART:20251102T090000
END:STANDARD
BEGIN:DAYLIGHT
TZOFFSETFROM:-0800
TZOFFSETTO:-0700
TZNAME:PDT
DTSTART:20260308T100000
END:DAYLIGHT
BEGIN:STANDARD
TZOFFSETFROM:-0700
TZOFFSETTO:-0800
TZNAME:PST
DTSTART:20261101T090000
END:STANDARD
BEGIN:DAYLIGHT
TZOFFSETFROM:-0800
TZOFFSETTO:-0700
TZNAME:PDT
DTSTART:20270314T100000
END:DAYLIGHT
BEGIN:STANDARD
TZOFFSETFROM:-0700
TZOFFSETTO:-0800
TZNAME:PST
DTSTART:20271107T090000
END:STANDARD
END:VTIMEZONE
BEGIN:VEVENT
DTSTART;TZID=America/Los_Angeles:20260307T043000
DTEND;TZID=America/Los_Angeles:20260307T190000
DTSTAMP:20260422T193011
CREATED:20260224T192419Z
LAST-MODIFIED:20260224T192633Z
UID:10008963-1772857800-1772910000@thebusinessjournal.com
SUMMARY:Water Lantern Festival
DESCRIPTION:Water Lantern Festival is a community-centered experience where guests decorate floating lanterns with personal messages of love\, hope\, remembrance\, or intention and release them together onto the water at sunset. \nThe resulting display of glowing lanterns creates a powerful\, shared moment that many attendees describe as one of the most beautiful nights of their lives. \n  \nEvent Details: \nWhere: Woodward Park – 7775 N Friant Rd\, Fresno\, CA 93720 \nWhen: Saturday\, March 7\, 2026 \n  \nAgenda: \n4:30 p.m. – Lantern release at sunset \n  \nNeed help? Email for support.
URL:https://thebusinessjournal.com/event/water-lantern-festival-fresno-2026/
LOCATION:Woodward Park\, 7775 N Friant Rd\, Fresno\, CA\, 93720\, United States
ATTACH;FMTTYPE=image/jpeg:https://thebusinessjournal.com/wp-content/uploads/2026/02/Water-Lantern-Festival-@-Woodward-Park-scaled.jpg
ORGANIZER;CN="Water Lantern Festival":MAILTO:support@waterlanternfestival.com
END:VEVENT
END:VCALENDAR