BEGIN:VCALENDAR
VERSION:2.0
PRODID:-//The Business Journal - ECPv6.15.17.1//NONSGML v1.0//EN
CALSCALE:GREGORIAN
METHOD:PUBLISH
X-ORIGINAL-URL:https://thebusinessjournal.com
X-WR-CALDESC:Events for The Business Journal
REFRESH-INTERVAL;VALUE=DURATION:PT1H
X-Robots-Tag:noindex
X-PUBLISHED-TTL:PT1H
BEGIN:VTIMEZONE
TZID:America/Los_Angeles
BEGIN:DAYLIGHT
TZOFFSETFROM:-0800
TZOFFSETTO:-0700
TZNAME:PDT
DTSTART:20240310T100000
END:DAYLIGHT
BEGIN:STANDARD
TZOFFSETFROM:-0700
TZOFFSETTO:-0800
TZNAME:PST
DTSTART:20241103T090000
END:STANDARD
BEGIN:DAYLIGHT
TZOFFSETFROM:-0800
TZOFFSETTO:-0700
TZNAME:PDT
DTSTART:20250309T100000
END:DAYLIGHT
BEGIN:STANDARD
TZOFFSETFROM:-0700
TZOFFSETTO:-0800
TZNAME:PST
DTSTART:20251102T090000
END:STANDARD
BEGIN:DAYLIGHT
TZOFFSETFROM:-0800
TZOFFSETTO:-0700
TZNAME:PDT
DTSTART:20260308T100000
END:DAYLIGHT
BEGIN:STANDARD
TZOFFSETFROM:-0700
TZOFFSETTO:-0800
TZNAME:PST
DTSTART:20261101T090000
END:STANDARD
END:VTIMEZONE
BEGIN:VEVENT
DTSTART;TZID=America/Los_Angeles:20251019T080000
DTEND;TZID=America/Los_Angeles:20251020T170000
DTSTAMP:20260420T065751
CREATED:20250317T152731Z
LAST-MODIFIED:20250317T152731Z
UID:10006501-1760860800-1760979600@thebusinessjournal.com
SUMMARY:FORE! The House Golf Tournament: Fresno
DESCRIPTION:Join us for a Sunday Night Kick-Off Dinner at the beautiful Copper River Country Club as we celebrate the 14th Annual FORE! The House Golf Tournament. This exciting new addition to tournament weekend will take place on October 19\, bringing together sponsors\, golfers\, and supporters for a relaxed evening of great food\, lively auction bidding\, and dancing—all in support of Ronald McDonald House Charities of the Central Valley. This casual yet spirited event is the perfect way to connect\, have fun\, and set the stage for a fantastic day on the course.
URL:https://thebusinessjournal.com/event/fore-the-house-golf-tournament-fresno/
LOCATION:Copper River Country Club\, 2140 E Clubhouse Dr\, Fresno\, 93730\, United States
ATTACH;FMTTYPE=image/png:https://thebusinessjournal.com/wp-content/uploads/2025/03/Fresno-Golf-1.png
ORGANIZER;CN="The Ronald McDonald House Charities of the Central Valley":MAILTO:alene@rmhccv.org
GEO:36.9051133;-119.7448377
X-APPLE-STRUCTURED-LOCATION;VALUE=URI;X-ADDRESS=Copper River Country Club 2140 E Clubhouse Dr Fresno 93730 United States;X-APPLE-RADIUS=500;X-TITLE=2140 E Clubhouse Dr:geo:-119.7448377,36.9051133
END:VEVENT
END:VCALENDAR